BEGIN:VCALENDAR
VERSION:2.0
PRODID:-//fortgeblasen.at - ECPv6.15.20//NONSGML v1.0//EN
CALSCALE:GREGORIAN
METHOD:PUBLISH
X-WR-CALNAME:fortgeblasen.at
X-ORIGINAL-URL:https://fortgeblasen.at
X-WR-CALDESC:Veranstaltungen für fortgeblasen.at
REFRESH-INTERVAL;VALUE=DURATION:PT1H
X-Robots-Tag:noindex
X-PUBLISHED-TTL:PT1H
BEGIN:VTIMEZONE
TZID:Europe/Vienna
BEGIN:DAYLIGHT
TZOFFSETFROM:+0100
TZOFFSETTO:+0200
TZNAME:CEST
DTSTART:20250330T010000
END:DAYLIGHT
BEGIN:STANDARD
TZOFFSETFROM:+0200
TZOFFSETTO:+0100
TZNAME:CET
DTSTART:20251026T010000
END:STANDARD
BEGIN:DAYLIGHT
TZOFFSETFROM:+0100
TZOFFSETTO:+0200
TZNAME:CEST
DTSTART:20260329T010000
END:DAYLIGHT
BEGIN:STANDARD
TZOFFSETFROM:+0200
TZOFFSETTO:+0100
TZNAME:CET
DTSTART:20261025T010000
END:STANDARD
BEGIN:DAYLIGHT
TZOFFSETFROM:+0100
TZOFFSETTO:+0200
TZNAME:CEST
DTSTART:20270328T010000
END:DAYLIGHT
BEGIN:STANDARD
TZOFFSETFROM:+0200
TZOFFSETTO:+0100
TZNAME:CET
DTSTART:20271031T010000
END:STANDARD
END:VTIMEZONE
BEGIN:VEVENT
DTSTART;TZID=Europe/Vienna:20260225T183000
DTEND;TZID=Europe/Vienna:20260225T213000
DTSTAMP:20260421T154839
CREATED:20260122T223037Z
LAST-MODIFIED:20260122T223037Z
UID:10206-1772044200-1772055000@fortgeblasen.at
SUMMARY:Abenteuer Freiheit bei der Crew Tauern - in Kaprun
DESCRIPTION:Unser neuer Reisevortrag\n\nVor über 25 Jahren sind Claudia und Jürgen zu einer ersten gemeinsamen Reise aufgebrochen – und haben dabei\, ohne es zu ahnen\, ihren vorbestimmten Lebensweg für immer hinter sich gelassen. Gemeinsam sind sie zu Abenteurern gewachsen\, angetrieben von ihrer Neugierde und inspiriert von den entlegensten Orten dieser Welt. \n \nAber ist es überhaupt möglich\, in einer entdeckten und erforschten Welt große Abenteuer zu erleben? Und wie lassen sich ferne Ziele aus eigener Kraft erreichen? \nMit den Bildern\, Filmen und Geschichten ihrer letzten großen Reisen nehmen dich die beiden mit in ihr Leben abseits der ausgetretenen Pfade. Auf eigene Faust\, mit ihrer selbst überholten Expeditionsyacht und ohne große Finanzen oder Sponsoren brechen sie auf\, um alle großen Fjorde dieser Welt zu erreichen. \n \nObwohl in ihrem Kielwasser bereits unzählige Seemeilen durch die gefährlichsten Gewässer dieser Welt liegen\, denken die beiden nicht daran\, ihre Reiselust auf Ozeane und Küsten zu beschränken. Freiheit bedeutet für Claudia und Jürgen eben auch\, jederzeit Neues versuchen zu können. So schaffen sie Platz an Bord für ihre beiden Wandertrial-Motorräder und bauen sich aus einem Kastenwagen einen Campingvan\, um damit das Abenteuer innerhalb Europa zu suchen. \n \nDabei läuft allerdings nicht immer alles nach Plan. Claudia und Jürgen erzählen auch von Pleiten und Pannen. Sie erzählen von ihren Willen\, auch in schwierigen Zeiten zuversichtlich zu sein und dennoch die Reiselust zu genießen.
URL:https://fortgeblasen.at/vortragtermine/abenteuer-freiheit-bei-der-crew-tauern-in-kaprun/
LOCATION:Sporthotel Vötters Kaprun\, Schloßstraße 32\, Kaprun\, 5710\, Austria
CATEGORIES:Multimedia Vortrag
ATTACH;FMTTYPE=image/jpeg:https://fortgeblasen.at/wp-content/uploads/2026/01/Banner-klein-1.jpg
ORGANIZER;CN="Crew Tauern":MAILTO:office@crew-tauern.at
END:VEVENT
END:VCALENDAR